BEGIN:VCALENDAR
VERSION:2.0
PRODID:-//CRÆ - ECPv6.15.20//NONSGML v1.0//EN
CALSCALE:GREGORIAN
METHOD:PUBLISH
X-ORIGINAL-URL:https://www.u-picardie.fr/crae
X-WR-CALDESC:Évènements pour CRÆ
REFRESH-INTERVAL;VALUE=DURATION:PT1H
X-Robots-Tag:noindex
X-PUBLISHED-TTL:PT1H
BEGIN:VTIMEZONE
TZID:Europe/Paris
BEGIN:DAYLIGHT
TZOFFSETFROM:+0100
TZOFFSETTO:+0200
TZNAME:CEST
DTSTART:20230326T010000
END:DAYLIGHT
BEGIN:STANDARD
TZOFFSETFROM:+0200
TZOFFSETTO:+0100
TZNAME:CET
DTSTART:20231029T010000
END:STANDARD
BEGIN:DAYLIGHT
TZOFFSETFROM:+0100
TZOFFSETTO:+0200
TZNAME:CEST
DTSTART:20240331T010000
END:DAYLIGHT
BEGIN:STANDARD
TZOFFSETFROM:+0200
TZOFFSETTO:+0100
TZNAME:CET
DTSTART:20241027T010000
END:STANDARD
BEGIN:DAYLIGHT
TZOFFSETFROM:+0100
TZOFFSETTO:+0200
TZNAME:CEST
DTSTART:20250330T010000
END:DAYLIGHT
BEGIN:STANDARD
TZOFFSETFROM:+0200
TZOFFSETTO:+0100
TZNAME:CET
DTSTART:20251026T010000
END:STANDARD
END:VTIMEZONE
BEGIN:VEVENT
DTSTART;TZID=Europe/Paris:20240308T130000
DTEND;TZID=Europe/Paris:20240308T150000
DTSTAMP:20260421T125348
CREATED:20240415T080749Z
LAST-MODIFIED:20240415T080752Z
UID:1783-1709902800-1709910000@www.u-picardie.fr
SUMMARY:Webinaire international Maurice Blanchot #1
DESCRIPTION:
URL:https://www.u-picardie.fr/crae/event/webinaire-international-maurice-blanchot-1/
CATEGORIES:manifestation scientifique
END:VEVENT
BEGIN:VEVENT
DTSTART;TZID=Europe/Paris:20240312T180000
DTEND;TZID=Europe/Paris:20240312T200000
DTSTAMP:20260421T125348
CREATED:20231014T090152Z
LAST-MODIFIED:20231014T090155Z
UID:1526-1710266400-1710273600@www.u-picardie.fr
SUMMARY:séminaire Les Mardis du CRÆ #2 - Marine Schütz
DESCRIPTION:
URL:https://www.u-picardie.fr/crae/event/seminaire-les-mardis-du-crae-2-marine-schutz/
CATEGORIES:manifestation scientifique
END:VEVENT
BEGIN:VEVENT
DTSTART;TZID=Europe/Paris:20240319T140000
DTEND;TZID=Europe/Paris:20240319T170000
DTSTAMP:20260421T125348
CREATED:20231009T104117Z
LAST-MODIFIED:20240217T153236Z
UID:1499-1710856800-1710867600@www.u-picardie.fr
SUMMARY:séminaire Flux\, afflux\, reflux dans les scènes actuelles #1- UPJV\, Théâtre Sarah Kane
DESCRIPTION:
URL:https://www.u-picardie.fr/crae/event/seminaire-flux-afflux-reflux-dans-les-scenes-actuelles-2-upjv/
CATEGORIES:manifestation scientifique
END:VEVENT
BEGIN:VEVENT
DTSTART;TZID=Europe/Paris:20240328T080000
DTEND;TZID=Europe/Paris:20240330T170000
DTSTAMP:20260421T125348
CREATED:20230914T102717Z
LAST-MODIFIED:20231031T091532Z
UID:1486-1711612800-1711818000@www.u-picardie.fr
SUMMARY:colloque zigzaguer / poésie & cinéma
DESCRIPTION:
URL:https://www.u-picardie.fr/crae/event/1486/
CATEGORIES:manifestation scientifique
END:VEVENT
END:VCALENDAR