BEGIN:VCALENDAR
VERSION:2.0
PRODID:-//CRÆ - ECPv6.15.20//NONSGML v1.0//EN
CALSCALE:GREGORIAN
METHOD:PUBLISH
X-ORIGINAL-URL:https://www.u-picardie.fr/crae
X-WR-CALDESC:Évènements pour CRÆ
REFRESH-INTERVAL;VALUE=DURATION:PT1H
X-Robots-Tag:noindex
X-PUBLISHED-TTL:PT1H
BEGIN:VTIMEZONE
TZID:Europe/Paris
BEGIN:DAYLIGHT
TZOFFSETFROM:+0100
TZOFFSETTO:+0200
TZNAME:CEST
DTSTART:20230326T010000
END:DAYLIGHT
BEGIN:STANDARD
TZOFFSETFROM:+0200
TZOFFSETTO:+0100
TZNAME:CET
DTSTART:20231029T010000
END:STANDARD
BEGIN:DAYLIGHT
TZOFFSETFROM:+0100
TZOFFSETTO:+0200
TZNAME:CEST
DTSTART:20240331T010000
END:DAYLIGHT
BEGIN:STANDARD
TZOFFSETFROM:+0200
TZOFFSETTO:+0100
TZNAME:CET
DTSTART:20241027T010000
END:STANDARD
BEGIN:DAYLIGHT
TZOFFSETFROM:+0100
TZOFFSETTO:+0200
TZNAME:CEST
DTSTART:20250330T010000
END:DAYLIGHT
BEGIN:STANDARD
TZOFFSETFROM:+0200
TZOFFSETTO:+0100
TZNAME:CET
DTSTART:20251026T010000
END:STANDARD
END:VTIMEZONE
BEGIN:VEVENT
DTSTART;TZID=Europe/Paris:20240208T140000
DTEND;TZID=Europe/Paris:20240208T170000
DTSTAMP:20260421T143451
CREATED:20231011T090426Z
LAST-MODIFIED:20240122T100951Z
UID:1511-1707400800-1707411600@www.u-picardie.fr
SUMMARY:séminaire Écrire avec... (s02) - #1 - F112
DESCRIPTION:
URL:https://www.u-picardie.fr/crae/event/seminaire-ecrire-avec-saison-deux-1/
CATEGORIES:manifestation scientifique
END:VEVENT
BEGIN:VEVENT
DTSTART;TZID=Europe/Paris:20240222T173000
DTEND;TZID=Europe/Paris:20240222T193000
DTSTAMP:20260421T143451
CREATED:20240312T161732Z
LAST-MODIFIED:20240312T161734Z
UID:1739-1708623000-1708630200@www.u-picardie.fr
SUMMARY:séminaire Le dessin contemporain #1 - FRAC Picardie
DESCRIPTION:
URL:https://www.u-picardie.fr/crae/event/seminaire-le-dessin-contemporain-1-frac-picardie/
CATEGORIES:manifestation scientifique
END:VEVENT
BEGIN:VEVENT
DTSTART;TZID=Europe/Paris:20240228T140000
DTEND;TZID=Europe/Paris:20240228T170000
DTSTAMP:20260421T143451
CREATED:20240217T152525Z
LAST-MODIFIED:20240221T073859Z
UID:1693-1709128800-1709139600@www.u-picardie.fr
SUMMARY:Journée d'études : Images du temps présent brésilien - Citadelle : E002-E001
DESCRIPTION:
URL:https://www.u-picardie.fr/crae/event/demi-journee-detudes-images-du-temps-present-bresilien-citadelle-e002-e001/
CATEGORIES:manifestation scientifique
END:VEVENT
BEGIN:VEVENT
DTSTART;TZID=Europe/Paris:20240229T140000
DTEND;TZID=Europe/Paris:20240229T170000
DTSTAMP:20260421T143451
CREATED:20231011T090544Z
LAST-MODIFIED:20231218T101500Z
UID:1513-1709215200-1709226000@www.u-picardie.fr
SUMMARY:séminaire Écrire avec… (s02) - #2 - F112
DESCRIPTION:
URL:https://www.u-picardie.fr/crae/event/seminaire-ecrire-avec-saison-deux-2/
CATEGORIES:manifestation scientifique
END:VEVENT
END:VCALENDAR