BEGIN:VCALENDAR
VERSION:2.0
PRODID:-//CRÆ - ECPv6.15.20//NONSGML v1.0//EN
CALSCALE:GREGORIAN
METHOD:PUBLISH
X-ORIGINAL-URL:https://www.u-picardie.fr/crae
X-WR-CALDESC:Évènements pour CRÆ
REFRESH-INTERVAL;VALUE=DURATION:PT1H
X-Robots-Tag:noindex
X-PUBLISHED-TTL:PT1H
BEGIN:VTIMEZONE
TZID:Europe/Paris
BEGIN:DAYLIGHT
TZOFFSETFROM:+0100
TZOFFSETTO:+0200
TZNAME:CEST
DTSTART:20230326T010000
END:DAYLIGHT
BEGIN:STANDARD
TZOFFSETFROM:+0200
TZOFFSETTO:+0100
TZNAME:CET
DTSTART:20231029T010000
END:STANDARD
BEGIN:DAYLIGHT
TZOFFSETFROM:+0100
TZOFFSETTO:+0200
TZNAME:CEST
DTSTART:20240331T010000
END:DAYLIGHT
BEGIN:STANDARD
TZOFFSETFROM:+0200
TZOFFSETTO:+0100
TZNAME:CET
DTSTART:20241027T010000
END:STANDARD
BEGIN:DAYLIGHT
TZOFFSETFROM:+0100
TZOFFSETTO:+0200
TZNAME:CEST
DTSTART:20250330T010000
END:DAYLIGHT
BEGIN:STANDARD
TZOFFSETFROM:+0200
TZOFFSETTO:+0100
TZNAME:CET
DTSTART:20251026T010000
END:STANDARD
END:VTIMEZONE
BEGIN:VEVENT
DTSTART;TZID=Europe/Paris:20240110T100000
DTEND;TZID=Europe/Paris:20240110T180000
DTSTAMP:20260421T162257
CREATED:20231011T083522Z
LAST-MODIFIED:20231031T091446Z
UID:1509-1704880800-1704909600@www.u-picardie.fr
SUMMARY:HCERES : journée de travail (in situ uniquement : UFR Arts ou Citadelle)
DESCRIPTION:
URL:https://www.u-picardie.fr/crae/event/journee-de-travail-sur-levaluation-hceres-in-situ-uniquement-ufr-arts-ou-citadelle/
CATEGORIES:residence
END:VEVENT
BEGIN:VEVENT
DTSTART;TZID=Europe/Paris:20240118T090000
DTEND;TZID=Europe/Paris:20240119T170000
DTSTAMP:20260421T162257
CREATED:20231214T151607Z
LAST-MODIFIED:20231214T151609Z
UID:1623-1705568400-1705683600@www.u-picardie.fr
SUMMARY:colloque Des forces et des matériaux - SAFRAN (grand théâtre)
DESCRIPTION:
URL:https://www.u-picardie.fr/crae/event/colloque-des-forces-et-des-materiaux-safran-grand-theatre/
CATEGORIES:manifestation scientifique
END:VEVENT
END:VCALENDAR