BEGIN:VCALENDAR
VERSION:2.0
PRODID:-//CRÆ - ECPv6.15.20//NONSGML v1.0//EN
CALSCALE:GREGORIAN
METHOD:PUBLISH
X-WR-CALNAME:CRÆ
X-ORIGINAL-URL:https://www.u-picardie.fr/crae
X-WR-CALDESC:Évènements pour CRÆ
REFRESH-INTERVAL;VALUE=DURATION:PT1H
X-Robots-Tag:noindex
X-PUBLISHED-TTL:PT1H
BEGIN:VTIMEZONE
TZID:Europe/Paris
BEGIN:DAYLIGHT
TZOFFSETFROM:+0100
TZOFFSETTO:+0200
TZNAME:CEST
DTSTART:20220327T010000
END:DAYLIGHT
BEGIN:STANDARD
TZOFFSETFROM:+0200
TZOFFSETTO:+0100
TZNAME:CET
DTSTART:20221030T010000
END:STANDARD
BEGIN:DAYLIGHT
TZOFFSETFROM:+0100
TZOFFSETTO:+0200
TZNAME:CEST
DTSTART:20230326T010000
END:DAYLIGHT
BEGIN:STANDARD
TZOFFSETFROM:+0200
TZOFFSETTO:+0100
TZNAME:CET
DTSTART:20231029T010000
END:STANDARD
BEGIN:DAYLIGHT
TZOFFSETFROM:+0100
TZOFFSETTO:+0200
TZNAME:CEST
DTSTART:20240331T010000
END:DAYLIGHT
BEGIN:STANDARD
TZOFFSETFROM:+0200
TZOFFSETTO:+0100
TZNAME:CET
DTSTART:20241027T010000
END:STANDARD
END:VTIMEZONE
BEGIN:VEVENT
DTSTART;TZID=Europe/Paris:20231113T080000
DTEND;TZID=Europe/Paris:20231115T170000
DTSTAMP:20260421T194451
CREATED:20230914T102433Z
LAST-MODIFIED:20230914T102434Z
UID:1482-1699862400-1700067600@www.u-picardie.fr
SUMMARY:zigzaguer / poésie & cinéma
DESCRIPTION:
URL:https://www.u-picardie.fr/crae/event/zigzaguer-poesie-cinema/
CATEGORIES:manifestation scientifique
END:VEVENT
BEGIN:VEVENT
DTSTART;TZID=Europe/Paris:20231116T110000
DTEND;TZID=Europe/Paris:20231116T130000
DTSTAMP:20260421T194451
CREATED:20231011T083352Z
LAST-MODIFIED:20231011T083354Z
UID:1507-1700132400-1700139600@www.u-picardie.fr
SUMMARY:réunion du CRÆ (zoom et in situ - UFR Arts ou Citadelle)
DESCRIPTION:
URL:https://www.u-picardie.fr/crae/event/reunion-du-crae-zoom-et-in-situ-ufr-arts-ou-citadelle/
CATEGORIES:reunion
END:VEVENT
BEGIN:VEVENT
DTSTART;TZID=Europe/Paris:20231122T080000
DTEND;TZID=Europe/Paris:20231124T170000
DTSTAMP:20260421T194451
CREATED:20230914T102503Z
LAST-MODIFIED:20231009T104422Z
UID:1484-1700640000-1700845200@www.u-picardie.fr
SUMMARY:zigzaguer / poésie & cinéma
DESCRIPTION:
URL:https://www.u-picardie.fr/crae/event/zigzaguer-poesie-cinema-2/
CATEGORIES:manifestation scientifique
END:VEVENT
BEGIN:VEVENT
DTSTART;TZID=Europe/Paris:20231130T140000
DTEND;TZID=Europe/Paris:20231130T170000
DTSTAMP:20260421T194451
CREATED:20231124T134841Z
LAST-MODIFIED:20231124T134844Z
UID:1597-1701352800-1701363600@www.u-picardie.fr
SUMMARY:workshop théorique d'Ana Lucia Araujo
DESCRIPTION:
URL:https://www.u-picardie.fr/crae/event/workshop-theorique-dana-lucia-araujo/
CATEGORIES:manifestation scientifique
END:VEVENT
END:VCALENDAR