BEGIN:VCALENDAR
VERSION:2.0
PRODID:-//CRÆ - ECPv6.15.20//NONSGML v1.0//EN
CALSCALE:GREGORIAN
METHOD:PUBLISH
X-WR-CALNAME:CRÆ
X-ORIGINAL-URL:https://www.u-picardie.fr/crae
X-WR-CALDESC:Évènements pour CRÆ
REFRESH-INTERVAL;VALUE=DURATION:PT1H
X-Robots-Tag:noindex
X-PUBLISHED-TTL:PT1H
BEGIN:VTIMEZONE
TZID:Europe/Paris
BEGIN:DAYLIGHT
TZOFFSETFROM:+0100
TZOFFSETTO:+0200
TZNAME:CEST
DTSTART:20220327T010000
END:DAYLIGHT
BEGIN:STANDARD
TZOFFSETFROM:+0200
TZOFFSETTO:+0100
TZNAME:CET
DTSTART:20221030T010000
END:STANDARD
BEGIN:DAYLIGHT
TZOFFSETFROM:+0100
TZOFFSETTO:+0200
TZNAME:CEST
DTSTART:20230326T010000
END:DAYLIGHT
BEGIN:STANDARD
TZOFFSETFROM:+0200
TZOFFSETTO:+0100
TZNAME:CET
DTSTART:20231029T010000
END:STANDARD
BEGIN:DAYLIGHT
TZOFFSETFROM:+0100
TZOFFSETTO:+0200
TZNAME:CEST
DTSTART:20240331T010000
END:DAYLIGHT
BEGIN:STANDARD
TZOFFSETFROM:+0200
TZOFFSETTO:+0100
TZNAME:CET
DTSTART:20241027T010000
END:STANDARD
END:VTIMEZONE
BEGIN:VEVENT
DTSTART;TZID=Europe/Paris:20230920T170000
DTEND;TZID=Europe/Paris:20230920T183000
DTSTAMP:20260421T225730
CREATED:20230920T065143Z
LAST-MODIFIED:20231014T090640Z
UID:1494-1695229200-1695234600@www.u-picardie.fr
SUMMARY:réunion de rentrée 23-24 (zoom)
DESCRIPTION:
URL:https://www.u-picardie.fr/crae/event/reunion-de-rentree-23-24-zoom/
CATEGORIES:reunion
END:VEVENT
END:VCALENDAR