BEGIN:VCALENDAR
VERSION:2.0
PRODID:-//CRÆ - ECPv6.15.20//NONSGML v1.0//EN
CALSCALE:GREGORIAN
METHOD:PUBLISH
X-ORIGINAL-URL:https://www.u-picardie.fr/crae
X-WR-CALDESC:Évènements pour CRÆ
REFRESH-INTERVAL;VALUE=DURATION:PT1H
X-Robots-Tag:noindex
X-PUBLISHED-TTL:PT1H
BEGIN:VTIMEZONE
TZID:Europe/Paris
BEGIN:DAYLIGHT
TZOFFSETFROM:+0100
TZOFFSETTO:+0200
TZNAME:CEST
DTSTART:20220327T010000
END:DAYLIGHT
BEGIN:STANDARD
TZOFFSETFROM:+0200
TZOFFSETTO:+0100
TZNAME:CET
DTSTART:20221030T010000
END:STANDARD
BEGIN:DAYLIGHT
TZOFFSETFROM:+0100
TZOFFSETTO:+0200
TZNAME:CEST
DTSTART:20230326T010000
END:DAYLIGHT
BEGIN:STANDARD
TZOFFSETFROM:+0200
TZOFFSETTO:+0100
TZNAME:CET
DTSTART:20231029T010000
END:STANDARD
BEGIN:DAYLIGHT
TZOFFSETFROM:+0100
TZOFFSETTO:+0200
TZNAME:CEST
DTSTART:20240331T010000
END:DAYLIGHT
BEGIN:STANDARD
TZOFFSETFROM:+0200
TZOFFSETTO:+0100
TZNAME:CET
DTSTART:20241027T010000
END:STANDARD
END:VTIMEZONE
BEGIN:VEVENT
DTSTART;TZID=Europe/Paris:20230404T180000
DTEND;TZID=Europe/Paris:20230404T200000
DTSTAMP:20260422T064254
CREATED:20230209T143105Z
LAST-MODIFIED:20230209T143107Z
UID:1318-1680631200-1680638400@www.u-picardie.fr
SUMMARY:Les Mardis du CRÆ : Marine Schütz
DESCRIPTION:
URL:https://www.u-picardie.fr/crae/event/les-mardis-du-crae-marine-schutz/
CATEGORIES:manifestation scientifique
END:VEVENT
BEGIN:VEVENT
DTSTART;TZID=Europe/Paris:20230406T100000
DTEND;TZID=Europe/Paris:20230406T130000
DTSTAMP:20260422T064254
CREATED:20221216T110349Z
LAST-MODIFIED:20221216T110350Z
UID:1213-1680775200-1680786000@www.u-picardie.fr
SUMMARY:Séminaire OGRE - Écrire avec la voix\, Violaine Lochu (F111)
DESCRIPTION:
URL:https://www.u-picardie.fr/crae/event/seminaire-ogre-ecrire-avec-la-voix-violaine-lochu-f111/
CATEGORIES:manifestation scientifique
END:VEVENT
BEGIN:VEVENT
DTSTART;TZID=Europe/Paris:20230411T140000
DTEND;TZID=Europe/Paris:20230411T170000
DTSTAMP:20260422T064254
CREATED:20221216T110929Z
LAST-MODIFIED:20221216T110931Z
UID:1247-1681221600-1681232400@www.u-picardie.fr
SUMMARY:Séminaire Lieux-compagnies : quelles utopies ? #4 - ARTOIS Maison de la recherche
DESCRIPTION:
URL:https://www.u-picardie.fr/crae/event/seminaire-lieux-compagnies-quelles-utopies-4-artois-maison-de-la-recherche/
CATEGORIES:manifestation scientifique
END:VEVENT
BEGIN:VEVENT
DTSTART;TZID=Europe/Paris:20230412T093000
DTEND;TZID=Europe/Paris:20230412T170000
DTSTAMP:20260422T064254
CREATED:20230411T195644Z
LAST-MODIFIED:20230411T195646Z
UID:1381-1681291800-1681318800@www.u-picardie.fr
SUMMARY:Journée d'étude du séminaire Miroirs de l'esthétique (Citadelle)
DESCRIPTION:
URL:https://www.u-picardie.fr/crae/event/journee-detude-du-seminaire-miroirs-de-lesthetique-citadelle/
CATEGORIES:manifestation scientifique
END:VEVENT
END:VCALENDAR