BEGIN:VCALENDAR
VERSION:2.0
PRODID:-//CRÆ - ECPv6.15.20//NONSGML v1.0//EN
CALSCALE:GREGORIAN
METHOD:PUBLISH
X-ORIGINAL-URL:https://www.u-picardie.fr/crae
X-WR-CALDESC:Évènements pour CRÆ
REFRESH-INTERVAL;VALUE=DURATION:PT1H
X-Robots-Tag:noindex
X-PUBLISHED-TTL:PT1H
BEGIN:VTIMEZONE
TZID:Europe/Paris
BEGIN:DAYLIGHT
TZOFFSETFROM:+0100
TZOFFSETTO:+0200
TZNAME:CEST
DTSTART:20210328T010000
END:DAYLIGHT
BEGIN:STANDARD
TZOFFSETFROM:+0200
TZOFFSETTO:+0100
TZNAME:CET
DTSTART:20211031T010000
END:STANDARD
BEGIN:DAYLIGHT
TZOFFSETFROM:+0100
TZOFFSETTO:+0200
TZNAME:CEST
DTSTART:20220327T010000
END:DAYLIGHT
BEGIN:STANDARD
TZOFFSETFROM:+0200
TZOFFSETTO:+0100
TZNAME:CET
DTSTART:20221030T010000
END:STANDARD
BEGIN:DAYLIGHT
TZOFFSETFROM:+0100
TZOFFSETTO:+0200
TZNAME:CEST
DTSTART:20230326T010000
END:DAYLIGHT
BEGIN:STANDARD
TZOFFSETFROM:+0200
TZOFFSETTO:+0100
TZNAME:CET
DTSTART:20231029T010000
END:STANDARD
END:VTIMEZONE
BEGIN:VEVENT
DTSTART;TZID=Europe/Paris:20221115T090000
DTEND;TZID=Europe/Paris:20221115T130000
DTSTAMP:20260422T151734
CREATED:20221107T164644Z
LAST-MODIFIED:20221107T171709Z
UID:1143-1668502800-1668517200@www.u-picardie.fr
SUMMARY:Soutenance d'HDR de Jérémie Majorel (salle D101)
DESCRIPTION:Plus d’informations
URL:https://www.u-picardie.fr/crae/event/soutenance-dhdr-de-jeremie-majorel/
CATEGORIES:soutenance
END:VEVENT
BEGIN:VEVENT
DTSTART;TZID=Europe/Paris:20221117T100000
DTEND;TZID=Europe/Paris:20221117T130000
DTSTAMP:20260422T151734
CREATED:20221107T171206Z
LAST-MODIFIED:20221107T171221Z
UID:1158-1668679200-1668690000@www.u-picardie.fr
SUMMARY:Séminaire OGRE - Écrire avec des images\, Anne-Lise Broyer (salle E205)
DESCRIPTION:Plus d’informations
URL:https://www.u-picardie.fr/crae/event/seminaire-ogre-ecrire-avec-des-images-anne-lise-broyer-salle-e205/
CATEGORIES:manifestation scientifique
END:VEVENT
END:VCALENDAR